BEGIN:VCALENDAR
VERSION:2.0
PRODID:-//Wainui School - ECPv4.9.2//NONSGML v1.0//EN
CALSCALE:GREGORIAN
METHOD:PUBLISH
X-WR-CALNAME:Wainui School
X-ORIGINAL-URL:http://wainui.school.nz
X-WR-CALDESC:Events for Wainui School
BEGIN:VEVENT
DTSTART;VALUE=DATE:20191129
DTEND;VALUE=DATE:20191130
DTSTAMP:20191218T231159
CREATED:20191001T231218Z
LAST-MODIFIED:20191014T214134Z
UID:1532-1574985600-1575071999@wainui.school.nz
SUMMARY:Junior ( Years 1-4) School Athletics
DESCRIPTION:Junior School Athletics will be at school on 29 November at school. \n \n
URL:http://wainui.school.nz/event/junior-school-athletics/
LOCATION:Wainui School\, 492 Waitoki Road\, Wainui\, Auckland\, New Zealand
CATEGORIES:Event Calendar,Kiwi Team Event,Pukeko Team Event
END:VEVENT
BEGIN:VEVENT
DTSTART;TZID=Pacific/Auckland:20191205T173000
DTEND;TZID=Pacific/Auckland:20191205T200000
DTSTAMP:20191218T231159
CREATED:20180227T012804Z
LAST-MODIFIED:20190508T001947Z
UID:2012-1575567000-1575576000@wainui.school.nz
SUMMARY:Christmas in the Country
DESCRIPTION:This year’s Christmas in the Country will be held on Thursday\, 5 December starting at 5.30pm. \nMore information to follow. \n \n
URL:http://wainui.school.nz/event/christmas-in-the-country2019/
CATEGORIES:Event Calendar
END:VEVENT
BEGIN:VEVENT
DTSTART;VALUE=DATE:20191216
DTEND;VALUE=DATE:20191217
DTSTAMP:20191218T231159
CREATED:20191014T210725Z
LAST-MODIFIED:20191014T210725Z
UID:5270-1576454400-1576540799@wainui.school.nz
SUMMARY:Junior Beach Bash!!!
DESCRIPTION:Pukeko team will celebrate the end of the year at the beach!!! Picnic\, games and maybe Santa may arrive!! \n
URL:http://wainui.school.nz/event/junior-beach-bash/
CATEGORIES:Event Calendar,Pukeko Team Event
END:VEVENT
BEGIN:VEVENT
DTSTART;VALUE=DATE:20191217
DTEND;VALUE=DATE:20191218
DTSTAMP:20191218T231159
CREATED:20171202T011458Z
LAST-MODIFIED:20191205T230047Z
UID:1542-1576540800-1576627199@wainui.school.nz
SUMMARY:Prizegiving
DESCRIPTION:A very special event for all year 3-8 children at Wainui School. Start Time – 1:30pm\nThis is our most formal event that we enjoy celebrating together. Families are all invited to join us.\nThere are Silver Cups and Certificates awarded for achievement\, effort in class and in some cases across the school for various areas. There are attendance awards that are also celebrated.\n\nVenue School Hall.\n
URL:http://wainui.school.nz/event/prizegiving/
LOCATION:Wainui School\, 492 Waitoki Road\, Wainui\, Auckland\, New Zealand
CATEGORIES:Event Calendar,Kiwi Team Event,Pukeko Team Event,Takahe Team Event,Tui Team Event
ATTACH;FMTTYPE=image/jpeg:http://wainui.school.nz/wp-content/uploads/2017/12/Screen-Shot-2018-05-01-at-9.33.35-PM.jpg
END:VEVENT
BEGIN:VEVENT
DTSTART;VALUE=DATE:20191219
DTEND;VALUE=DATE:20191220
DTSTAMP:20191218T231159
CREATED:20180227T013118Z
LAST-MODIFIED:20191014T033346Z
UID:2014-1576713600-1576799999@wainui.school.nz
SUMMARY:Last Day Term 4 ( 1:00)pm
DESCRIPTION:
URL:http://wainui.school.nz/event/last-day-term-4/
CATEGORIES:Event Calendar,Kiwi Team Event,Pukeko Team Event,Takahe Team Event,Tui Team Event
END:VEVENT
BEGIN:VEVENT
DTSTART;TZID=Pacific/Auckland:20191219T130000
DTEND;TZID=Pacific/Auckland:20191219T130000
DTSTAMP:20191218T231159
CREATED:20191213T025813Z
LAST-MODIFIED:20191213T025813Z
UID:5776-1576760400-1576760400@wainui.school.nz
SUMMARY:TERM 4 ENDS 1:00 pm Thursday 19th December
DESCRIPTION:Merry Christmas all \n
URL:http://wainui.school.nz/event/term-4-ends-100-pm-thursday-19th-december/
CATEGORIES:Event Calendar
END:VEVENT
END:VCALENDAR